BEGIN:VCALENDAR
VERSION:2.0
PRODID:-//MARS - ECPv6.15.20//NONSGML v1.0//EN
CALSCALE:GREGORIAN
METHOD:PUBLISH
X-WR-CALNAME:MARS
X-ORIGINAL-URL:https://launchtomars.de
X-WR-CALDESC:Veranstaltungen für MARS
REFRESH-INTERVAL;VALUE=DURATION:PT1H
X-Robots-Tag:noindex
X-PUBLISHED-TTL:PT1H
BEGIN:VTIMEZONE
TZID:Europe/Berlin
BEGIN:DAYLIGHT
TZOFFSETFROM:+0100
TZOFFSETTO:+0200
TZNAME:CEST
DTSTART:20250330T010000
END:DAYLIGHT
BEGIN:STANDARD
TZOFFSETFROM:+0200
TZOFFSETTO:+0100
TZNAME:CET
DTSTART:20251026T010000
END:STANDARD
BEGIN:DAYLIGHT
TZOFFSETFROM:+0100
TZOFFSETTO:+0200
TZNAME:CEST
DTSTART:20260329T010000
END:DAYLIGHT
BEGIN:STANDARD
TZOFFSETFROM:+0200
TZOFFSETTO:+0100
TZNAME:CET
DTSTART:20261025T010000
END:STANDARD
BEGIN:DAYLIGHT
TZOFFSETFROM:+0100
TZOFFSETTO:+0200
TZNAME:CEST
DTSTART:20270328T010000
END:DAYLIGHT
BEGIN:STANDARD
TZOFFSETFROM:+0200
TZOFFSETTO:+0100
TZNAME:CET
DTSTART:20271031T010000
END:STANDARD
END:VTIMEZONE
BEGIN:VEVENT
DTSTART;TZID=Europe/Berlin:20260225T170000
DTEND;TZID=Europe/Berlin:20260225T190000
DTSTAMP:20260424T224743
CREATED:20260128T161220Z
LAST-MODIFIED:20260204T123811Z
UID:3266-1772038800-1772046000@launchtomars.de
SUMMARY:DeepTechHub Matchmaking im MAFINEX
DESCRIPTION:Am 25.02. ist es so weit: Das DeepTechHub-Matchmaking kommt nach Mannheim! \nIm MAFINEX in inmittelbarer Nähe zur Technischen Hochschule Mannheim finden sich die Köpfe mit Ideen\, Ambition und Fleiß zusammen\, um gemeinsam ihren Traum vom StartUp zu entwickeln und Wirklichkeit werden zu lassen. \nDieses Event wird von einem von Baden-Württembergs Innovationsclustern aus dem vom Ministerium für Wissenschaft und Kunst etablierten Inspire-BW Ökosystem veranstaltet. Die Anmeldung erfolg über die Website des DeepTechHub: Hier
URL:https://launchtomars.de/veranstaltungen/deeptechhub-matchmaking-im-mafinex/
LOCATION:MAFINEX\, Julius-Hatry-Straße 3\, 68163 Mannheim
ATTACH;FMTTYPE=image/png:https://launchtomars.de/wp-content/uploads/2026/01/MM_25-02-26_Header-1200x800-1.png
END:VEVENT
END:VCALENDAR