BEGIN:VCALENDAR
VERSION:2.0
PRODID:-//MARS - ECPv6.15.20//NONSGML v1.0//EN
CALSCALE:GREGORIAN
METHOD:PUBLISH
X-ORIGINAL-URL:https://launchtomars.de
X-WR-CALDESC:Veranstaltungen für MARS
REFRESH-INTERVAL;VALUE=DURATION:PT1H
X-Robots-Tag:noindex
X-PUBLISHED-TTL:PT1H
BEGIN:VTIMEZONE
TZID:Europe/Berlin
BEGIN:DAYLIGHT
TZOFFSETFROM:+0100
TZOFFSETTO:+0200
TZNAME:CEST
DTSTART:20250330T010000
END:DAYLIGHT
BEGIN:STANDARD
TZOFFSETFROM:+0200
TZOFFSETTO:+0100
TZNAME:CET
DTSTART:20251026T010000
END:STANDARD
BEGIN:DAYLIGHT
TZOFFSETFROM:+0100
TZOFFSETTO:+0200
TZNAME:CEST
DTSTART:20260329T010000
END:DAYLIGHT
BEGIN:STANDARD
TZOFFSETFROM:+0200
TZOFFSETTO:+0100
TZNAME:CET
DTSTART:20261025T010000
END:STANDARD
BEGIN:DAYLIGHT
TZOFFSETFROM:+0100
TZOFFSETTO:+0200
TZNAME:CEST
DTSTART:20270328T010000
END:DAYLIGHT
BEGIN:STANDARD
TZOFFSETFROM:+0200
TZOFFSETTO:+0100
TZNAME:CET
DTSTART:20271031T010000
END:STANDARD
END:VTIMEZONE
BEGIN:VEVENT
DTSTART;TZID=Europe/Berlin:20260121T170000
DTEND;TZID=Europe/Berlin:20260121T183000
DTSTAMP:20260424T213812
CREATED:20251213T092015Z
LAST-MODIFIED:20251213T092015Z
UID:3239-1769014800-1769020200@launchtomars.de
SUMMARY:Startup Date mit Fabian Eckert (RECUP & REBOWL)
DESCRIPTION:Nach den inspirierenden Startup Dates der vergangenen Monate dürfen wir uns auf ein weiteres Highlight freuen: Am 21. Januar begrüßen wir Fabian Eckert\, einen der Mitgründer von RECUP & REBOWL\, Deutschlands führendem Mehrwegsystem für die Gastronomie. \nFabian Eckert gehört zu den prägenden Köpfen einer Bewegung\, die aus dem Alltag vieler Menschen nicht mehr wegzudenken ist. Die türkisen RECUP-Becher und REBOWL-Lunchboxen stehen für einen einfachen\, alltagstauglichen und wirksamen Beitrag zur Müllvermeidung – und sind damit ein Symbol für praktischen Klimaschutz geworden. Was heute selbstverständlich wirkt\, begann 2015 mit einer Idee in einem schwedischen Hörsaal: Die Frage\, wie man Milliarden von Einwegverpackungen vermeiden und ein ganzes System verändern kann. Dass sein Mitgründer Florian zur gleichen Zeit an einer anderen Uni dieselbe Idee entwickelte\, war der Zufall\, der RECUP möglich machte. \nIm Interview nimmt uns Fabian mit in die frühen Tage der Gründung\, erzählt von mutigen Entscheidungen\, Rückschlägen und den Herausforderungen\, die entstehen\, wenn sich ein Markt erst entwickeln muss – und dann plötzlich explodiert. Er spricht darüber\, wie politische Veränderungen\, Wettbewerb und das eigene Streben nach Weiterentwicklung RECUP geformt haben. Und er zeigt offen\, was es bedeutet\, in kurzer Zeit Marktführer zu werden\, Wachstum zu managen und gleichzeitig ein Produkt zu entwickeln\, das wirklich nachhaltig etwas verändert. \nFabian gibt Einblicke in einen intensiven Weg: vom Gründungsideal über Phasen kompletter Erschöpfung bis hin zur Erkenntnis\, warum starke Partner\, ein funktionierendes Team und ein klarer Purpose entscheidend sind. Und er blickt zurück auf nahezu neun Jahre RECUP – Jahre\, in denen aus einer Vision ein deutschlandweit bekanntes und wirkungsvolles Kreislaufsystem wurde. \nBeim Startup Date hast Du die Gelegenheit\, einen der zentralen Treiber der deutschen Mehrwegbewegung persönlich zu erleben – nahbar\, reflektiert und mit einer Geschichte\, die zeigt\, wie viel Mut es braucht\, ein reales gesellschaftliches Problem anzugehen. Nach unserem Interview hast du wie immer die Möglichkeit\, Fragen zu stellen und direkt mit Fabian ins Gespräch zu kommen. \nDie Veranstaltung findet am Mittwoch\, den 21. Januar\, um 17 Uhr online statt. \nKostenlose Tickets erhältst du über https://check-in.uni-heidelberg.de/heiinnovation/startupdate/ \nNutze die Chance\, einen der Köpfe hinter RECUP kennenzulernen – und dich von einer Gründerstory inspirieren zu lassen\, die zeigt\, wie aus einer Idee echter Wandel entsteht.
URL:https://launchtomars.de/veranstaltungen/startup-date-mit-fabian-eckert-recup-rebowl/
LOCATION:Online
CATEGORIES:Start-Up & Existenzgründung
ATTACH;FMTTYPE=image/png:https://launchtomars.de/wp-content/uploads/2025/12/Untitled-design-2.png
END:VEVENT
END:VCALENDAR