BEGIN:VCALENDAR
VERSION:2.0
PRODID:-//MARS - ECPv6.15.20//NONSGML v1.0//EN
CALSCALE:GREGORIAN
METHOD:PUBLISH
X-ORIGINAL-URL:https://launchtomars.de
X-WR-CALDESC:Veranstaltungen für MARS
REFRESH-INTERVAL;VALUE=DURATION:PT1H
X-Robots-Tag:noindex
X-PUBLISHED-TTL:PT1H
BEGIN:VTIMEZONE
TZID:Europe/Berlin
BEGIN:DAYLIGHT
TZOFFSETFROM:+0100
TZOFFSETTO:+0200
TZNAME:CEST
DTSTART:20240331T010000
END:DAYLIGHT
BEGIN:STANDARD
TZOFFSETFROM:+0200
TZOFFSETTO:+0100
TZNAME:CET
DTSTART:20241027T010000
END:STANDARD
BEGIN:DAYLIGHT
TZOFFSETFROM:+0100
TZOFFSETTO:+0200
TZNAME:CEST
DTSTART:20250330T010000
END:DAYLIGHT
BEGIN:STANDARD
TZOFFSETFROM:+0200
TZOFFSETTO:+0100
TZNAME:CET
DTSTART:20251026T010000
END:STANDARD
BEGIN:DAYLIGHT
TZOFFSETFROM:+0100
TZOFFSETTO:+0200
TZNAME:CEST
DTSTART:20260329T010000
END:DAYLIGHT
BEGIN:STANDARD
TZOFFSETFROM:+0200
TZOFFSETTO:+0100
TZNAME:CET
DTSTART:20261025T010000
END:STANDARD
END:VTIMEZONE
BEGIN:VEVENT
DTSTART;TZID=Europe/Berlin:20250624T120000
DTEND;TZID=Europe/Berlin:20250624T170000
DTSTAMP:20260423T164225
CREATED:20250612T213818Z
LAST-MODIFIED:20250612T214040Z
UID:3032-1750766400-1750784400@launchtomars.de
SUMMARY:Tagung: Das andere Ich – der immersive Mensch
DESCRIPTION:Psychische Belastungen\, soziale Isolation und Bildungsungleichheit stellen soziale Arbeit\, Bildung und Kultur vor neue Herausforderungen. Hybride Technologien wie Augmented Reality (AR)\, Virtual Reality (VR) und digitale Erfahrungsräume bieten innovative Ansätze\, um diese Herausforderungen zu adressieren: Sie machen komplexe Lebensrealitäten erfahrbar\, stärken Empathie und eröffnen neue Kommunikationswege jenseits sprachlicher oder kultureller Grenzen. \nDie interaktive Tagung „Das andere Ich – der immersive Mensch“ bringt Fachleute aus Sozialer Arbeit\, Technologie\, Wissenschaft\, Kunst und Kultur zusammen. Im Fokus steht die Frage\, wie immersive Formate Identität erfahrbar machen\, Selbstwirksamkeit fördern und soziale Teilhabe ermöglichen – und welche Rolle sie künftig in sozialen Handlungsfeldern spielen können. \nFreuen Sie sich auf ein vielseitiges Programm mit Paneldiskussionen\, Praxisbeispielen und interaktiven Erkundungsräumen. Die Tagung lädt dazu ein\, sich zu vernetzen\, neue Perspektiven kennenzulernen und gemeinsam das transformative Potenzial hybrider Erfahrungsräume für soziale Innovationen zu entdecken. \n  \nAnmeldelink: \nhttps://transfor-ma.de/event/tagung-das-andere-ich-der-immersive-mensch/ \nDie Veranstaltung ist kostenlos
URL:https://launchtomars.de/veranstaltungen/tagung-das-andere-ich-der-immersive-mensch/
LOCATION:Altes Volksbad Mannheim\, Mittelstrasse 42\, Mannheim\, 68169
ATTACH;FMTTYPE=image/jpeg:https://launchtomars.de/wp-content/uploads/2025/06/Bild_Tagung_Webseite.jpg
END:VEVENT
END:VCALENDAR