BEGIN:VCALENDAR
VERSION:2.0
PRODID:-//MARS - ECPv6.15.20//NONSGML v1.0//EN
CALSCALE:GREGORIAN
METHOD:PUBLISH
X-WR-CALNAME:MARS
X-ORIGINAL-URL:https://launchtomars.de
X-WR-CALDESC:Veranstaltungen für MARS
REFRESH-INTERVAL;VALUE=DURATION:PT1H
X-Robots-Tag:noindex
X-PUBLISHED-TTL:PT1H
BEGIN:VTIMEZONE
TZID:Europe/Berlin
BEGIN:DAYLIGHT
TZOFFSETFROM:+0100
TZOFFSETTO:+0200
TZNAME:CEST
DTSTART:20240331T010000
END:DAYLIGHT
BEGIN:STANDARD
TZOFFSETFROM:+0200
TZOFFSETTO:+0100
TZNAME:CET
DTSTART:20241027T010000
END:STANDARD
BEGIN:DAYLIGHT
TZOFFSETFROM:+0100
TZOFFSETTO:+0200
TZNAME:CEST
DTSTART:20250330T010000
END:DAYLIGHT
BEGIN:STANDARD
TZOFFSETFROM:+0200
TZOFFSETTO:+0100
TZNAME:CET
DTSTART:20251026T010000
END:STANDARD
BEGIN:DAYLIGHT
TZOFFSETFROM:+0100
TZOFFSETTO:+0200
TZNAME:CEST
DTSTART:20260329T010000
END:DAYLIGHT
BEGIN:STANDARD
TZOFFSETFROM:+0200
TZOFFSETTO:+0100
TZNAME:CET
DTSTART:20261025T010000
END:STANDARD
END:VTIMEZONE
BEGIN:VEVENT
DTSTART;TZID=Europe/Berlin:20251125T170000
DTEND;TZID=Europe/Berlin:20251125T200000
DTSTAMP:20260424T201705
CREATED:20251026T223543Z
LAST-MODIFIED:20251026T223543Z
UID:3208-1764090000-1764100800@launchtomars.de
SUMMARY:Next Practices. Lernformate für morgen. Kreative Köpfe stellen ihre innovativen Ansätze vor.
DESCRIPTION:Alte Lernformate haben ausgedient – sie passen oft nicht mehr in unsere Zeit. Gefragt sind neue Ideen\, frische Perspektiven und Formate\, die wirklich bewegen. In einer Welt voller KI\, Wandel und Ungewissheit heißt es: anpassen\, neu denken und mutig vorangehen. Anders vermitteln\, anders lernen\, anders handeln. Auf dieser Veranstaltung stellen kreative Köpfe ihre innovativen Ansätze vor – inspirierend\, praktisch und zukunftsgerichtet. Eine Einladung\, vertraute Pfade hinter sich zu lassen und gemeinsam Raum für Neues zu schaffen.\n\n\n\nMitwirkende\n\n\nThomas Bornheim – GF Arkadia\n42 Heilbronn: Programmieren lernen im Peer to Peer Model \nChristian Röser – Vorstand Starkmacher e.V. \nStoryMint: Was man Netflix und Co über Wissensvermittlung lernen kann \nTorsten Schneider – GF Next Level Erlebnisse\nSandbox VR: mehr als eine Spielmaschine\nTanja Weißmann – Leitung der Stadtbibliothek Ludwigshafen\nStadtbibliothek Ludwigshafen: Design neuer Lernorte\n\n\nModeration: Dr. Marc Reisner\, TransforMA / MARS – Im Rahmen der Veranstaltung findet ein Silent Lab zum Thema Überwachung statt (Jan Kalt\, Marc Reisner\, Tom Woschitz).\n\n\nDiese Veranstaltung findet in Kooperation mit TransforMA und   dem Freischwimmer Ludwigshafen statt.
URL:https://launchtomars.de/veranstaltungen/next-practices-lernformate-fuer-morgen-kreative-koepfe-stellen-ihre-innovativen-ansaetze-vor/
LOCATION:Freischwimmer Ludwigshafen\, Pettenkoferstraße 9\, 67063 Ludwigshafen am Rhein
ATTACH;FMTTYPE=image/png:https://launchtomars.de/wp-content/uploads/2025/10/ai-generated-8719074_12801.png
END:VEVENT
END:VCALENDAR