BEGIN:VCALENDAR
VERSION:2.0
PRODID:-//MARS - ECPv6.15.20//NONSGML v1.0//EN
CALSCALE:GREGORIAN
METHOD:PUBLISH
X-ORIGINAL-URL:https://launchtomars.de
X-WR-CALDESC:Veranstaltungen für MARS
REFRESH-INTERVAL;VALUE=DURATION:PT1H
X-Robots-Tag:noindex
X-PUBLISHED-TTL:PT1H
BEGIN:VTIMEZONE
TZID:Europe/Berlin
BEGIN:DAYLIGHT
TZOFFSETFROM:+0100
TZOFFSETTO:+0200
TZNAME:CEST
DTSTART:20240331T010000
END:DAYLIGHT
BEGIN:STANDARD
TZOFFSETFROM:+0200
TZOFFSETTO:+0100
TZNAME:CET
DTSTART:20241027T010000
END:STANDARD
BEGIN:DAYLIGHT
TZOFFSETFROM:+0100
TZOFFSETTO:+0200
TZNAME:CEST
DTSTART:20250330T010000
END:DAYLIGHT
BEGIN:STANDARD
TZOFFSETFROM:+0200
TZOFFSETTO:+0100
TZNAME:CET
DTSTART:20251026T010000
END:STANDARD
BEGIN:DAYLIGHT
TZOFFSETFROM:+0100
TZOFFSETTO:+0200
TZNAME:CEST
DTSTART:20260329T010000
END:DAYLIGHT
BEGIN:STANDARD
TZOFFSETFROM:+0200
TZOFFSETTO:+0100
TZNAME:CET
DTSTART:20261025T010000
END:STANDARD
END:VTIMEZONE
BEGIN:VEVENT
DTSTART;TZID=Europe/Berlin:20251117T190000
DTEND;TZID=Europe/Berlin:20251117T220000
DTSTAMP:20260424T201736
CREATED:20251026T222102Z
LAST-MODIFIED:20251026T223043Z
UID:3199-1763406000-1763416800@launchtomars.de
SUMMARY:Jean-Remy von Matt Autorenlesung
DESCRIPTION:Kreativität ist ein hochwirksamer Stoff\, aber genauso eine leicht verderbliche Ware\nJean-Remy von Matt ist der kreative Kopf von Deutschland bekanntester Werbeagentur Jung von Matt. Als Werber und Texter war er immer gefordert zu verdichten. Jetzt erzählt er in originellen und erhellenden Anekdoten\, wo und wie er Kreativität gelebt und erlebt hat. Und das verpackt in eine spektakuläre Marketingidee: Es wird das erste Buch\, das von Anfang bis Ende immer schlechter wird – mit Vorsatz. Dafür ließ der Autor jedes einzelne Kapitel von einer Jury bewerten und ordnete die Texte entsprechend. Der Vorteil: Wo immer man mit Lesen aufhört\, hat man das Beste auf keinen Fall verpasst. Aber vielleicht ist ja selbst die letzte Anekdote noch lesenswert?\n\nDiese Veranstaltung findet in Kooperation mit TransforMA\, dem Freischwimmer Ludwigshafen und dem Designzentrum Rhein Neckar statt.\n\nKostenlose Tickets unter:\nhttps://freischwimmer-foerderverein.de/jean-remy-von-matt.html
URL:https://launchtomars.de/veranstaltungen/jean-remy-von-matt-autorenlesung/
LOCATION:Freischwimmer Ludwigshafen\, Pettenkoferstraße 9\, 67063 Ludwigshafen am Rhein
ATTACH;FMTTYPE=image/jpeg:https://launchtomars.de/wp-content/uploads/2025/10/Matt_Jean-Remy_von_c_Yves_Borgwardt1-scaled.jpeg
END:VEVENT
END:VCALENDAR