BEGIN:VCALENDAR
VERSION:2.0
PRODID:-//MARS - ECPv6.15.20//NONSGML v1.0//EN
CALSCALE:GREGORIAN
METHOD:PUBLISH
X-ORIGINAL-URL:https://launchtomars.de
X-WR-CALDESC:Veranstaltungen für MARS
REFRESH-INTERVAL;VALUE=DURATION:PT1H
X-Robots-Tag:noindex
X-PUBLISHED-TTL:PT1H
BEGIN:VTIMEZONE
TZID:Europe/Berlin
BEGIN:DAYLIGHT
TZOFFSETFROM:+0100
TZOFFSETTO:+0200
TZNAME:CEST
DTSTART:20240331T010000
END:DAYLIGHT
BEGIN:STANDARD
TZOFFSETFROM:+0200
TZOFFSETTO:+0100
TZNAME:CET
DTSTART:20241027T010000
END:STANDARD
BEGIN:DAYLIGHT
TZOFFSETFROM:+0100
TZOFFSETTO:+0200
TZNAME:CEST
DTSTART:20250330T010000
END:DAYLIGHT
BEGIN:STANDARD
TZOFFSETFROM:+0200
TZOFFSETTO:+0100
TZNAME:CET
DTSTART:20251026T010000
END:STANDARD
BEGIN:DAYLIGHT
TZOFFSETFROM:+0100
TZOFFSETTO:+0200
TZNAME:CEST
DTSTART:20260329T010000
END:DAYLIGHT
BEGIN:STANDARD
TZOFFSETFROM:+0200
TZOFFSETTO:+0100
TZNAME:CET
DTSTART:20261025T010000
END:STANDARD
END:VTIMEZONE
BEGIN:VEVENT
DTSTART;TZID=Europe/Berlin:20251107T133000
DTEND;TZID=Europe/Berlin:20251107T183000
DTSTAMP:20260424T201742
CREATED:20250303T143016Z
LAST-MODIFIED:20250806T143647Z
UID:2699-1762522200-1762540200@launchtomars.de
SUMMARY:No Code Game Development
DESCRIPTION:🎮 Präsenz-Seminar: Entwicklung von Spielen ohne Code 🎮 \n🕐 Zeit:am 07.11.2025 von 13:30 – 18:30 Uhr (6 UE)\n🏢 Ort: Gebäude R\, Raum 108. \nDie Veranstaltung wird in englischer Sprache gehalten und wird von Ercin Gündüz (MARS) geleitet und steht allen Studierenden\, Professoren\, Mitarbeitern und externen Interessierten offen. \nDieser interaktive Workshop bietet eine Einführung in die Entwicklung von Spielen ohne Code\, komplett mit praktischen Übungen und Anleitungen durch den gesamten Prozess. Lernt\, spielbare Prototypen zu erstellen\, eure Ideen zu validieren und Spiele zu polieren und zu veröffentlichen. Der Fokus liegt auf kreativem Denken und Zusammenarbeit. Am Ende der fünfstündigen Blockveranstaltung verlässt jeder Teilnehmer den Workshop mit einem eigenen Spiel und zusätzlichen Ressourcen. \n🧠 Was erwartet euch? \nPraktische Übungen zur Spielentwicklung ohne Programmierkenntnisse\nErstellung spielbarer Prototypen\nValidierung und Veröffentlichung von Spielideen\nKreatives Denken und Teamarbeit\nDiese Veranstaltung ist eine großartige Gelegenheit\, eure kreativen Fähigkeiten auszubauen und neue Kenntnisse in der Spieleentwicklung zu erlangen. Die Teilnahme wird von den beteiligten Fakultäten anerkannt. \nJetzt anmelden und Teil dieser einzigartigen Erfahrung werden! \nLink zur Anmeldung: Klick mich
URL:https://launchtomars.de/veranstaltungen/no-code-game-development-3/
LOCATION:Technische Hochschule Mannheim – Gebäude R – Raum 108\, John-Deere-Str. 82-85\, Mannheim\, 69163
ATTACH;FMTTYPE=image/png:https://launchtomars.de/wp-content/uploads/2024/08/Bildschirmfoto-2024-08-16-um-11.43.42.png
END:VEVENT
END:VCALENDAR