BEGIN:VCALENDAR
VERSION:2.0
PRODID:-//MARS - ECPv6.15.20//NONSGML v1.0//EN
CALSCALE:GREGORIAN
METHOD:PUBLISH
X-WR-CALNAME:MARS
X-ORIGINAL-URL:https://launchtomars.de
X-WR-CALDESC:Veranstaltungen für MARS
REFRESH-INTERVAL;VALUE=DURATION:PT1H
X-Robots-Tag:noindex
X-PUBLISHED-TTL:PT1H
BEGIN:VTIMEZONE
TZID:Europe/Berlin
BEGIN:DAYLIGHT
TZOFFSETFROM:+0100
TZOFFSETTO:+0200
TZNAME:CEST
DTSTART:20240331T010000
END:DAYLIGHT
BEGIN:STANDARD
TZOFFSETFROM:+0200
TZOFFSETTO:+0100
TZNAME:CET
DTSTART:20241027T010000
END:STANDARD
BEGIN:DAYLIGHT
TZOFFSETFROM:+0100
TZOFFSETTO:+0200
TZNAME:CEST
DTSTART:20250330T010000
END:DAYLIGHT
BEGIN:STANDARD
TZOFFSETFROM:+0200
TZOFFSETTO:+0100
TZNAME:CET
DTSTART:20251026T010000
END:STANDARD
BEGIN:DAYLIGHT
TZOFFSETFROM:+0100
TZOFFSETTO:+0200
TZNAME:CEST
DTSTART:20260329T010000
END:DAYLIGHT
BEGIN:STANDARD
TZOFFSETFROM:+0200
TZOFFSETTO:+0100
TZNAME:CET
DTSTART:20261025T010000
END:STANDARD
END:VTIMEZONE
BEGIN:VEVENT
DTSTART;TZID=Europe/Berlin:20251106T130000
DTEND;TZID=Europe/Berlin:20251106T170000
DTSTAMP:20260424T201624
CREATED:20250303T140230Z
LAST-MODIFIED:20250806T143732Z
UID:2695-1762434000-1762448400@launchtomars.de
SUMMARY:Gewerbliche Schutzrechte Online Kurs
DESCRIPTION:📢 Gewerbliche Schutzrechte – Patente und kommerzielle Verwertung von Forschungsergebnissen \nUnser Seminar „Gewerbliche Schutzrechte“ als Schlüsselqualifikation bietet euch die Chance\, in die Welt des Patentrechts\, Gebrauchsmusterrechts\, Markenrechts\, Designrechts\, Urheberrechts und Arbeitnehmererfinderrechts einzutauchen. 🏛️💡 \n📅 Wann: 06.11.2025 13-17 von Uhr / Onlineveranstaltung / 5 UE\n🎤 Referent: Murat Gisi\, Patentanwalt \nMeldet euch an und erweitert euer Wissen über die kommerzielle Verwertung von Forschungsergebnissen und die Bedeutung des Innovationsstandorts Deutschland! 🇩🇪 \nLink zur Anmeldung: Klick mich
URL:https://launchtomars.de/veranstaltungen/gewerbliche-schutzrechte-online-kurs/
LOCATION:Online
ATTACH;FMTTYPE=image/png:https://launchtomars.de/wp-content/uploads/2024/08/Bildschirmfoto-2024-08-16-um-11.17.06.png
END:VEVENT
END:VCALENDAR