BEGIN:VCALENDAR
VERSION:2.0
PRODID:-//MARS - ECPv6.15.20//NONSGML v1.0//EN
CALSCALE:GREGORIAN
METHOD:PUBLISH
X-ORIGINAL-URL:https://launchtomars.de
X-WR-CALDESC:Veranstaltungen für MARS
REFRESH-INTERVAL;VALUE=DURATION:PT1H
X-Robots-Tag:noindex
X-PUBLISHED-TTL:PT1H
BEGIN:VTIMEZONE
TZID:Europe/Berlin
BEGIN:DAYLIGHT
TZOFFSETFROM:+0100
TZOFFSETTO:+0200
TZNAME:CEST
DTSTART:20240331T010000
END:DAYLIGHT
BEGIN:STANDARD
TZOFFSETFROM:+0200
TZOFFSETTO:+0100
TZNAME:CET
DTSTART:20241027T010000
END:STANDARD
BEGIN:DAYLIGHT
TZOFFSETFROM:+0100
TZOFFSETTO:+0200
TZNAME:CEST
DTSTART:20250330T010000
END:DAYLIGHT
BEGIN:STANDARD
TZOFFSETFROM:+0200
TZOFFSETTO:+0100
TZNAME:CET
DTSTART:20251026T010000
END:STANDARD
BEGIN:DAYLIGHT
TZOFFSETFROM:+0100
TZOFFSETTO:+0200
TZNAME:CEST
DTSTART:20260329T010000
END:DAYLIGHT
BEGIN:STANDARD
TZOFFSETFROM:+0200
TZOFFSETTO:+0100
TZNAME:CET
DTSTART:20261025T010000
END:STANDARD
END:VTIMEZONE
BEGIN:VEVENT
DTSTART;TZID=Europe/Berlin:20251001T173000
DTEND;TZID=Europe/Berlin:20251001T213000
DTSTAMP:20260424T155515
CREATED:20250825T114615Z
LAST-MODIFIED:20250902T125627Z
UID:3132-1759339800-1759354200@launchtomars.de
SUMMARY:TeamUp
DESCRIPTION:Du bist auch noch auf der Suche nach deinem perfekten Team? 🤔 \nDann komm zu unserem nächsten Hashtag TeamUp Matchmaking! Hier kannst du neue Kontakte knüpfen\, dein Netzwerk erweitern und potenzielle Co-Founder treffen. 🚀 \n📅 Wann? 01.10.2025 | 17:30 – 21:30 Uhr\n📍 Wo? Technische Hochschule Mannheim\, John-Deere-Str. 85\, Raum 108\, Gebäude R/S\nDiesmal mit unserem Kooperationspartner CyberForum aus Karlsruhe 🙌 \nHier anmelden: Cyberlab Karlsruhe
URL:https://launchtomars.de/veranstaltungen/teamup/
LOCATION:Technische Hochschule Mannheim – Gebäude R – Raum 108\, John-Deere-Str. 82-85\, Mannheim\, 69163
CATEGORIES:Start-Up & Existenzgründung
ATTACH;FMTTYPE=image/png:https://launchtomars.de/wp-content/uploads/2025/08/Screenshot-2025-08-25-at-13-41-23-Instagram.png
END:VEVENT
END:VCALENDAR