BEGIN:VCALENDAR
VERSION:2.0
PRODID:-//MARS - ECPv6.15.20//NONSGML v1.0//EN
CALSCALE:GREGORIAN
METHOD:PUBLISH
X-WR-CALNAME:MARS
X-ORIGINAL-URL:https://launchtomars.de
X-WR-CALDESC:Veranstaltungen für MARS
REFRESH-INTERVAL;VALUE=DURATION:PT1H
X-Robots-Tag:noindex
X-PUBLISHED-TTL:PT1H
BEGIN:VTIMEZONE
TZID:Europe/Berlin
BEGIN:DAYLIGHT
TZOFFSETFROM:+0100
TZOFFSETTO:+0200
TZNAME:CEST
DTSTART:20240331T010000
END:DAYLIGHT
BEGIN:STANDARD
TZOFFSETFROM:+0200
TZOFFSETTO:+0100
TZNAME:CET
DTSTART:20241027T010000
END:STANDARD
BEGIN:DAYLIGHT
TZOFFSETFROM:+0100
TZOFFSETTO:+0200
TZNAME:CEST
DTSTART:20250330T010000
END:DAYLIGHT
BEGIN:STANDARD
TZOFFSETFROM:+0200
TZOFFSETTO:+0100
TZNAME:CET
DTSTART:20251026T010000
END:STANDARD
BEGIN:DAYLIGHT
TZOFFSETFROM:+0100
TZOFFSETTO:+0200
TZNAME:CEST
DTSTART:20260329T010000
END:DAYLIGHT
BEGIN:STANDARD
TZOFFSETFROM:+0200
TZOFFSETTO:+0100
TZNAME:CET
DTSTART:20261025T010000
END:STANDARD
END:VTIMEZONE
BEGIN:VEVENT
DTSTART;TZID=Europe/Berlin:20250930T170000
DTEND;TZID=Europe/Berlin:20250930T183000
DTSTAMP:20260424T144209
CREATED:20250825T114727Z
LAST-MODIFIED:20250902T143124Z
UID:3129-1759251600-1759257000@launchtomars.de
SUMMARY:Startup-DNA gesucht: finde heraus\, ob Gründen dein Ding ist! 12 UE (6 Termine)
DESCRIPTION:Du musst ja nicht gleich ein Startup gründen\, aber du solltest wissen\, ob Du das Zeug dazu hast. Bist du Gründer:in oder eher perfekt als Mitgründer:in oder Möglichmacher:in? In diesem Workshop entdecken wir gemeinsam Dein unternehmerisches Potenzial\, stärken Dein Growth-Mindset und finden heraus\, wer an Deiner Seite stehen sollte\, wenn du eines Tages loslegst. Denn die beste Idee braucht das richtige Team und die richtige innere Haltung. \nZiele: \n-Persönliches Gründungspotenzial erkennen\n-Growth Mindset entwickeln\n-Passende Gründer-Rollen identifizieren\n-Resilienz und Umsetzungsfähigkeit stärken \nInhalte: \n-Welche Stärken\, Werte und Motive bilden meine persönliche Gründer-DNA?\n-Was macht ein echtes Growth-Mindset aus und wie trainiere ich es täglich?\n-Wie setze ich mir die richtigen Ziele\, an denen ich wachsen und mich entwickeln kann?\n-Wie gehe ich konstruktiv mit Unsicherheit\, Kritik und Rückschlägen um?\n-Wie stärke ich meine Fähigkeit zur Umsetzungs?\n-Welche Rollen und Persönlichkeits­typen ergänzen mein Profil zu einem starken Gründerteam? \nMethoden: \n-Impuls­vorträge & Gründer-Stories\n-Selbstreflexionstools und Persönlichkeitstests\n-Mindset-Übungen & Micro-Habit-Challenges\n-Gruppenarbeit\, Peer-Coaching & Feedback-Runden\n-Diskussionen und moderierte Auswertungen \nDer Kurs findet konsekutiv an diesen sechs Terminen statt: \n30.09.\, 07.10.\, 21.10.\, 04.11.\, 11.11.\, 02.12.2025 \nAnmeldung über das Career-Center der TH Mannheim!
URL:https://launchtomars.de/veranstaltungen/startup-dna-gesucht-finde-heraus-ob-gruenden-dein-ding-ist-12-ue-6-termine/
LOCATION:Technische Hochschule Mannheim – Gebäude R – Raum 108\, John-Deere-Str. 82-85\, Mannheim\, 69163
CATEGORIES:Schlüsselqualifikationen
ATTACH;FMTTYPE=image/png:https://launchtomars.de/wp-content/uploads/2025/08/startup-dna.png
END:VEVENT
END:VCALENDAR