BEGIN:VCALENDAR
VERSION:2.0
PRODID:-//MARS - ECPv6.15.20//NONSGML v1.0//EN
CALSCALE:GREGORIAN
METHOD:PUBLISH
X-WR-CALNAME:MARS
X-ORIGINAL-URL:https://launchtomars.de
X-WR-CALDESC:Veranstaltungen für MARS
REFRESH-INTERVAL;VALUE=DURATION:PT1H
X-Robots-Tag:noindex
X-PUBLISHED-TTL:PT1H
BEGIN:VTIMEZONE
TZID:Europe/Berlin
BEGIN:DAYLIGHT
TZOFFSETFROM:+0100
TZOFFSETTO:+0200
TZNAME:CEST
DTSTART:20240331T010000
END:DAYLIGHT
BEGIN:STANDARD
TZOFFSETFROM:+0200
TZOFFSETTO:+0100
TZNAME:CET
DTSTART:20241027T010000
END:STANDARD
BEGIN:DAYLIGHT
TZOFFSETFROM:+0100
TZOFFSETTO:+0200
TZNAME:CEST
DTSTART:20250330T010000
END:DAYLIGHT
BEGIN:STANDARD
TZOFFSETFROM:+0200
TZOFFSETTO:+0100
TZNAME:CET
DTSTART:20251026T010000
END:STANDARD
BEGIN:DAYLIGHT
TZOFFSETFROM:+0100
TZOFFSETTO:+0200
TZNAME:CEST
DTSTART:20260329T010000
END:DAYLIGHT
BEGIN:STANDARD
TZOFFSETFROM:+0200
TZOFFSETTO:+0100
TZNAME:CET
DTSTART:20261025T010000
END:STANDARD
END:VTIMEZONE
BEGIN:VEVENT
DTSTART;VALUE=DATE:20250417
DTEND;VALUE=DATE:20250418
DTSTAMP:20260423T152559
CREATED:20250226T095847Z
LAST-MODIFIED:20250226T095950Z
UID:2679-1744848000-1744934399@launchtomars.de
SUMMARY:Co-Founder Match Making mit dem DeepTechHub
DESCRIPTION:Am 17. April 2025 öffnen wir unsere Türen für ein großartiges Event\, das ambitionierte Gründer*innen und kreative Köpfe aus Mannheim\, Heidelberg und Karlsruhe zusammenbringt: das Co-Founder Match Making Event\, präsentiert vom Deep Tech Hub und seinen Partnern. \nDas erwartet dich: \n\nDein Start in die Startup-Welt: Dies ist deine Gelegenheit\, Teil einer dynamischen Community zu werden\, die sich durch Kreativität\, Innovation und den Drang\, die Zukunft zu gestalten\, auszeichnet. Wir bringen Start-ups\, die auf der Suche nach frischen Talenten und Co-Founder*innen sind\, mit motivierten Studierenden zusammen.\nVielfältige Talentsuche: Egal\, ob du Fachkenntnisse in Betriebswirtschaft\, Business Development\, IT besitzt\, auf der Suche nach einer spannenden Herausforderung in einem Start-up bist oder den nächsten Schritt wagen und Co-Founder werden möchtest – hier findest du Gleichgesinnte.\nInteraktives Programm: In unseren Speed-Dating-Sessions kannst du in kurzer Zeit viele interessante Menschen kennenlernen und im Anschluss beim After Work Beer im MAFINEX die Gespräche in lockerer Atmosphäre fortsetzen.
URL:https://launchtomars.de/veranstaltungen/co-founder-match-making-mit-dem-deeptechhub/
END:VEVENT
END:VCALENDAR