BEGIN:VCALENDAR
VERSION:2.0
PRODID:-//MARS - ECPv6.15.20//NONSGML v1.0//EN
CALSCALE:GREGORIAN
METHOD:PUBLISH
X-WR-CALNAME:MARS
X-ORIGINAL-URL:https://launchtomars.de
X-WR-CALDESC:Veranstaltungen für MARS
REFRESH-INTERVAL;VALUE=DURATION:PT1H
X-Robots-Tag:noindex
X-PUBLISHED-TTL:PT1H
BEGIN:VTIMEZONE
TZID:Europe/Berlin
BEGIN:DAYLIGHT
TZOFFSETFROM:+0100
TZOFFSETTO:+0200
TZNAME:CEST
DTSTART:20240331T010000
END:DAYLIGHT
BEGIN:STANDARD
TZOFFSETFROM:+0200
TZOFFSETTO:+0100
TZNAME:CET
DTSTART:20241027T010000
END:STANDARD
BEGIN:DAYLIGHT
TZOFFSETFROM:+0100
TZOFFSETTO:+0200
TZNAME:CEST
DTSTART:20250330T010000
END:DAYLIGHT
BEGIN:STANDARD
TZOFFSETFROM:+0200
TZOFFSETTO:+0100
TZNAME:CET
DTSTART:20251026T010000
END:STANDARD
BEGIN:DAYLIGHT
TZOFFSETFROM:+0100
TZOFFSETTO:+0200
TZNAME:CEST
DTSTART:20260329T010000
END:DAYLIGHT
BEGIN:STANDARD
TZOFFSETFROM:+0200
TZOFFSETTO:+0100
TZNAME:CET
DTSTART:20261025T010000
END:STANDARD
END:VTIMEZONE
BEGIN:VEVENT
DTSTART;TZID=Europe/Berlin:20250407T153000
DTEND;TZID=Europe/Berlin:20250407T170000
DTSTAMP:20260423T152640
CREATED:20250314T082450Z
LAST-MODIFIED:20250314T085944Z
UID:2790-1744039800-1744045200@launchtomars.de
SUMMARY:User Interface Design: Einführung in das High Fidelity Design mit Figma
DESCRIPTION:Erster Termin: 07.04.25 um 15:30 Uhr in R108\nRegulärer Termin: Montags\, 15:30 – 17:00 Raum R108\nBeginn: 07. April 2025 Montag \nKurbeschreibung (8UEs):\nIn diesem Kurs lernen die Teilnehmer die Grundlagen und fortgeschrittenen Techniken des UI/UX-Designs mit Figma\, einem der führenden Design-Tools in der Branche. Der Kurs beginnt mit einer Einführung in Figma und einem Vergleich mit Sketch\, einem anderen beliebten Design-Tool\, wobei die Unterschiede in Funktionalität und Anwendung hervorgehoben werden. Anschließend werden die Teilnehmer in die Problemerkennung mit FigJam eingeführt\, einem Kollaborations-Tool von Figma\, das es ermöglicht\, Designprobleme effektiv zu identifizieren und zu diskutieren. \nDer praktische Teil des Kurses umfasst die Erstellung eines Figma-Designprojekts\, wobei die Grundlagen wie Frames\, Sections und Slices detailliert behandelt werden. Die Studierenden lernen\, wie man Low-Fidelity-Prototypen in ihr Designprojekt importiert und diese als Basis für die Weiterentwicklung verwendet. Der Kurs schließt mit der Entwicklung von High-Fidelity-Prototypen\, die mit Hilfe des Quest AI-Plugins in React exportiert werden können. Dabei wird besonderer Wert auf die Anwendung und Integration von Designprinzipien gelegt\, um praxisnahe und umsetzbare Ergebnisse zu erzielen. Am Ende des Kurses sind die Teilnehmer in der Lage\, eigenständig benutzerzentrierte Designs zu erstellen und diese in interaktive Prototypen zu verwandeln\, die in der realen Welt anwendbar sind. \nZiele\n\n\n\n\nWas ist Figma? Welche Unterschiede gibt es zwischen Figma und Sketch? \n\n\nIdentifikation von Problemen mithilfe von FigJam \n\n\nErstellen eines Figma Design Projektes (Grundlagen: Frames\, Sections\, Slices) \n\n\nImportieren von Low Fidelity Prototypen in das Design Projektes \n\n\nHigh-Fidelity Prototypen bauen und Export in React (mittels Plugin: Quest AI) \n\n\n\n\n\n  \n\nDozent: Jacqueline Franßen \nEmail: j.franssen@lba-hs-mannheim.de \nMoodle Kurs Anmeldung:Klick hier \n 
URL:https://launchtomars.de/veranstaltungen/user-interface-design-einfuehrung-in-das-high-fidelity-design-mit-figma/
ATTACH;FMTTYPE=image/jpeg:https://launchtomars.de/wp-content/uploads/2025/03/figma_bild.jpg
END:VEVENT
END:VCALENDAR