BEGIN:VCALENDAR
VERSION:2.0
PRODID:-//MARS - ECPv6.15.20//NONSGML v1.0//EN
CALSCALE:GREGORIAN
METHOD:PUBLISH
X-WR-CALNAME:MARS
X-ORIGINAL-URL:https://launchtomars.de
X-WR-CALDESC:Veranstaltungen für MARS
REFRESH-INTERVAL;VALUE=DURATION:PT1H
X-Robots-Tag:noindex
X-PUBLISHED-TTL:PT1H
BEGIN:VTIMEZONE
TZID:Europe/Berlin
BEGIN:DAYLIGHT
TZOFFSETFROM:+0100
TZOFFSETTO:+0200
TZNAME:CEST
DTSTART:20230326T010000
END:DAYLIGHT
BEGIN:STANDARD
TZOFFSETFROM:+0200
TZOFFSETTO:+0100
TZNAME:CET
DTSTART:20231029T010000
END:STANDARD
BEGIN:DAYLIGHT
TZOFFSETFROM:+0100
TZOFFSETTO:+0200
TZNAME:CEST
DTSTART:20240331T010000
END:DAYLIGHT
BEGIN:STANDARD
TZOFFSETFROM:+0200
TZOFFSETTO:+0100
TZNAME:CET
DTSTART:20241027T010000
END:STANDARD
BEGIN:DAYLIGHT
TZOFFSETFROM:+0100
TZOFFSETTO:+0200
TZNAME:CEST
DTSTART:20250330T010000
END:DAYLIGHT
BEGIN:STANDARD
TZOFFSETFROM:+0200
TZOFFSETTO:+0100
TZNAME:CET
DTSTART:20251026T010000
END:STANDARD
END:VTIMEZONE
BEGIN:VEVENT
DTSTART;TZID=Europe/Berlin:20241007T170000
DTEND;TZID=Europe/Berlin:20241007T183000
DTSTAMP:20260421T124515
CREATED:20230923T193117Z
LAST-MODIFIED:20241007T081606Z
UID:793-1728320400-1728325800@launchtomars.de
SUMMARY:Existenzgründungsreihe: next mannheim
DESCRIPTION:Mannheim zählt zu den Top-Gründerstädte in Deutschland mit einem beeindruckenden Ökosystem für Startups. Die Vision einer Gründer*innenstadt wird durch next mannheim und dem gründungsbegeisterten Oberbürgermeister realisiert. Eva-Maria Markutzik\, Community Managerin des MAFINEX\, erklärt das Konzept für Mannheim\, um die Stadt zur Nr.1 für Gründer*Innen zu machen. Unterstützt wird sie von Ihrer Kollegin Frauke Bothe-Anstädt\, die für das Startup Ecosystem und den Up2B Accelerator verantwortlich ist. \nLink zur Veranstaltung: hier klicken
URL:https://launchtomars.de/veranstaltungen/existenzgruendungsreihe-next-mannheim/
LOCATION:Online
CATEGORIES:Start-Up & Existenzgründung
ATTACH;FMTTYPE=image/jpeg:https://launchtomars.de/wp-content/uploads/2023/09/mars-existensgruendungsreihe.jpg
END:VEVENT
END:VCALENDAR