BEGIN:VCALENDAR
VERSION:2.0
PRODID:-//MARS - ECPv6.15.20//NONSGML v1.0//EN
CALSCALE:GREGORIAN
METHOD:PUBLISH
X-ORIGINAL-URL:https://launchtomars.de
X-WR-CALDESC:Veranstaltungen für MARS
REFRESH-INTERVAL;VALUE=DURATION:PT1H
X-Robots-Tag:noindex
X-PUBLISHED-TTL:PT1H
BEGIN:VTIMEZONE
TZID:Europe/Berlin
BEGIN:DAYLIGHT
TZOFFSETFROM:+0100
TZOFFSETTO:+0200
TZNAME:CEST
DTSTART:20230326T010000
END:DAYLIGHT
BEGIN:STANDARD
TZOFFSETFROM:+0200
TZOFFSETTO:+0100
TZNAME:CET
DTSTART:20231029T010000
END:STANDARD
BEGIN:DAYLIGHT
TZOFFSETFROM:+0100
TZOFFSETTO:+0200
TZNAME:CEST
DTSTART:20240331T010000
END:DAYLIGHT
BEGIN:STANDARD
TZOFFSETFROM:+0200
TZOFFSETTO:+0100
TZNAME:CET
DTSTART:20241027T010000
END:STANDARD
BEGIN:DAYLIGHT
TZOFFSETFROM:+0100
TZOFFSETTO:+0200
TZNAME:CEST
DTSTART:20250330T010000
END:DAYLIGHT
BEGIN:STANDARD
TZOFFSETFROM:+0200
TZOFFSETTO:+0100
TZNAME:CET
DTSTART:20251026T010000
END:STANDARD
END:VTIMEZONE
BEGIN:VEVENT
DTSTART;TZID=Europe/Berlin:20240429T170000
DTEND;TZID=Europe/Berlin:20240429T183000
DTSTAMP:20260421T124614
CREATED:20240307T215747Z
LAST-MODIFIED:20240307T225700Z
UID:1235-1714410000-1714415400@launchtomars.de
SUMMARY:StartUP ABC: Social Entrepreneurship
DESCRIPTION:Soziale Startups bringen eine besondere Dynamik in die Gründerszene. Doch was unterscheidet sie von anderen Startups? Dr. Lilli Leirich vertritt wie keine andere das Thema Social Entrepreneurship in unserer Region. Sie hat verschiedene Accelerator-Programme entwickelt und zeichnet sich auch maßgeblich dafür verantwortlich\, dass Mannheim einen S-HUB hat. \nLink zur Veranstaltung: hier klicken
URL:https://launchtomars.de/veranstaltungen/startup-abc-social-entrepreneurship/
LOCATION:Online
ATTACH;FMTTYPE=image/png:https://launchtomars.de/wp-content/uploads/2024/03/Startupabc2.png
END:VEVENT
END:VCALENDAR